BEGIN:VCALENDAR
VERSION:2.0
PRODID:-//PYVOBJECT//NONSGML Version 0.9.9//EN
X-WR-TIMEZONE:Africa/Johannesburg
BEGIN:VTIMEZONE
TZID:Africa/Johannesburg
BEGIN:STANDARD
DTSTART:20000101T000000
RRULE:FREQ=YEARLY;BYMONTH=1
TZNAME:SAST
TZOFFSETFROM:+0200
TZOFFSETTO:+0200
END:STANDARD
END:VTIMEZONE
BEGIN:VEVENT
UID:20260419T180526Z - 41734@eos-content
DTSTART;TZID=Africa/Johannesburg:20260419T140000
DTEND;TZID=Africa/Johannesburg:20260419T170000
ATTENDEE:MAILTO:tania@lencar.co.za
DESCRIPTION:https://www.lencar.co.za/results/residential/for-sale/johannesb
 urg/bassonia/apartment/2996630/\n\nON SHOW THIS SUNDAY 19 APRIL 2026 FROM 
 14:00PM TO 17:00PM\n\nTania Rebolo (0829007870)
DTSTAMP:20260419T180526Z
LOCATION:Bassonia\, Johannesburg
SUMMARY:Lencar Exclusive Properties Show Day - RL2732
END:VEVENT
END:VCALENDAR
